{
 "currentVersion": 10.91,
 "serviceDescription": "test2023today",
 "name": "test2023today",
 "description": "",
 "extent": {
  "xmin": 2146848,
  "ymin": 1478664,
  "xmax": 2273568,
  "ymax": 1608024,
  "spatialReference": {
   "wkid": 102667,
   "latestWkid": 2240
  }
 },
 "initialExtent": {
  "xmin": 2146848,
  "ymin": 1478664,
  "xmax": 2273568,
  "ymax": 1608024,
  "spatialReference": {
   "wkid": 102667,
   "latestWkid": 2240
  }
 },
 "fullExtent": {
  "xmin": 2146848,
  "ymin": 1478664,
  "xmax": 2273568,
  "ymax": 1608024,
  "spatialReference": {
   "wkid": 102667,
   "latestWkid": 2240
  }
 },
 "hasMultidimensions": false,
 "pixelSizeX": 0.5,
 "pixelSizeY": 0.5,
 "datasetFormat": "SDR",
 "uncompressedSize": 196709990400,
 "blockWidth": 128,
 "blockHeight": 128,
 "compressionType": "LZ77",
 "bandNames": [
  "Band_1",
  "Band_2",
  "Band_3"
 ],
 "allowCopy": true,
 "allowAnalysis": true,
 "bandCount": 3,
 "pixelType": "U8",
 "minPixelSize": 0,
 "maxPixelSize": 0,
 "copyrightText": "",
 "serviceDataType": "esriImageServiceDataTypeProcessed",
 "serviceSourceType": "esriImageServiceSourceTypeDataset",
 "minValues": [
  0,
  0,
  0
 ],
 "maxValues": [
  255,
  255,
  255
 ],
 "meanValues": [
  148.29396482738582,
  144.56281284581365,
  136.64098749503066
 ],
 "stdvValues": [
  65.09219564584723,
  64.49907977927565,
  66.26211554257837
 ],
 "objectIdField": "",
 "fields": [],
 "capabilities": "Image,Metadata,Mensuration",
 "defaultMosaicMethod": "Center",
 "allowedMosaicMethods": "",
 "sortField": "",
 "sortValue": null,
 "sortAscending": true,
 "mosaicOperator": "First",
 "defaultCompressionQuality": 75,
 "defaultResamplingMethod": "Bilinear",
 "maxImageHeight": 4100,
 "maxImageWidth": 15000,
 "allowRasterFunction": true,
 "rasterFunctionInfos": [
  {
   "name": "None",
   "description": "",
   "help": ""
  }
 ],
 "rasterTypeInfos": [
  {
   "name": "Raster Dataset",
   "description": "Supports all ArcGIS Raster Datasets",
   "help": ""
  }
 ],
 "mensurationCapabilities": "Basic",
 "hasHistograms": true,
 "hasColormap": false,
 "hasRasterAttributeTable": false,
 "minScale": 0,
 "maxScale": 0,
 "exportTilesAllowed": false,
 "supportsStatistics": false,
 "supportsAdvancedQueries": false,
 "editFieldsInfo": null,
 "ownershipBasedAccessControlForRasters": null,
 "allowComputeTiePoints": false,
 "useStandardizedQueries": true,
 "advancedQueryCapabilities": {
  "useStandardizedQueries": true,
  "supportsStatistics": false,
  "supportsOrderBy": false,
  "supportsDistinct": false,
  "supportsPagination": false
 },
 "spatialReference": {
  "wkid": 102667,
  "latestWkid": 2240
 }
}
